BEGIN:VCALENDAR
VERSION:2.0
PRODID:-//Jason Hazinski - ECPv6.15.20//NONSGML v1.0//EN
CALSCALE:GREGORIAN
METHOD:PUBLISH
X-ORIGINAL-URL:https://jasonhazinski.com
X-WR-CALDESC:Events for Jason Hazinski
REFRESH-INTERVAL;VALUE=DURATION:PT1H
X-Robots-Tag:noindex
X-PUBLISHED-TTL:PT1H
BEGIN:VTIMEZONE
TZID:America/St_Thomas
BEGIN:STANDARD
TZOFFSETFROM:-0400
TZOFFSETTO:-0400
TZNAME:AST
DTSTART:20250101T000000
END:STANDARD
END:VTIMEZONE
BEGIN:VEVENT
DTSTART;TZID=America/St_Thomas:20260319T170000
DTEND;TZID=America/St_Thomas:20260321T200000
DTSTAMP:20260425T183158
CREATED:20251214T165943Z
LAST-MODIFIED:20260107T012923Z
UID:163-1773939600-1774123200@jasonhazinski.com
SUMMARY:3/19/2026 - 3/21/2026 - TreeHouse! // ST. JOHN U.S. VIRGIN ISLANDS // Island Getaway at The Windmill Bar // 5-8pm
DESCRIPTION:TreeHouse! performs 3 nights in the islands… Thursday March 19th Friday March 20th Saturday March 21st @ The Windmill Bar St. John\, USVI 5PM – 8PM Every Night – FREE ENTRY/NO COVER *No passport required to travel from the U.S. to the U.S. Virgin Islands\, just a Real ID
URL:https://jasonhazinski.com/event/3-19-2026-3-21-2026-treehouse-st-john-u-s-virgin-islands-island-getaway-at-the-windmill-bar-5-8pm/
LOCATION:The Windmill Bar\, 17 A Estate Susannaberg\, Cruz Bay\, U.S. Virgin Islands\, 00830\, United States Minor Outlying Islands
CATEGORIES:Shows,TreeHouse!
ATTACH;FMTTYPE=image/webp:https://jasonhazinski.com/wp-content/uploads/2025/12/3.19.26-USVI-scaled-1.webp
END:VEVENT
END:VCALENDAR