BEGIN:VCALENDAR
VERSION:2.0
PRODID:-//Jason Hazinski - ECPv6.15.20//NONSGML v1.0//EN
CALSCALE:GREGORIAN
METHOD:PUBLISH
X-WR-CALNAME:Jason Hazinski
X-ORIGINAL-URL:https://jasonhazinski.com
X-WR-CALDESC:Events for Jason Hazinski
REFRESH-INTERVAL;VALUE=DURATION:PT1H
X-Robots-Tag:noindex
X-PUBLISHED-TTL:PT1H
BEGIN:VTIMEZONE
TZID:America/New_York
BEGIN:DAYLIGHT
TZOFFSETFROM:-0500
TZOFFSETTO:-0400
TZNAME:EDT
DTSTART:20240310T070000
END:DAYLIGHT
BEGIN:STANDARD
TZOFFSETFROM:-0400
TZOFFSETTO:-0500
TZNAME:EST
DTSTART:20241103T060000
END:STANDARD
BEGIN:DAYLIGHT
TZOFFSETFROM:-0500
TZOFFSETTO:-0400
TZNAME:EDT
DTSTART:20250309T070000
END:DAYLIGHT
BEGIN:STANDARD
TZOFFSETFROM:-0400
TZOFFSETTO:-0500
TZNAME:EST
DTSTART:20251102T060000
END:STANDARD
BEGIN:DAYLIGHT
TZOFFSETFROM:-0500
TZOFFSETTO:-0400
TZNAME:EDT
DTSTART:20260308T070000
END:DAYLIGHT
BEGIN:STANDARD
TZOFFSETFROM:-0400
TZOFFSETTO:-0500
TZNAME:EST
DTSTART:20261101T060000
END:STANDARD
END:VTIMEZONE
BEGIN:VEVENT
DTSTART;TZID=America/New_York:20251228T150000
DTEND;TZID=America/New_York:20251228T180000
DTSTAMP:20260425T200944
CREATED:20251210T135247Z
LAST-MODIFIED:20251227T135405Z
UID:1483-1766934000-1766944800@jasonhazinski.com
SUMMARY:12/28/2025 - CHALWA Reggae Sunday at French Broad River Brewery // 3 - 6pm
DESCRIPTION:
URL:https://jasonhazinski.com/event/12-28-2025-chalwa-reggae-sunday-at-french-broad-river-brewery-3-6pm/
LOCATION:French Broad River Brewery\, 101 Fairview Rd\, Asheville\, NC\, 28803\, United States
CATEGORIES:Chalwa,Shows
ATTACH;FMTTYPE=image/webp:https://jasonhazinski.com/wp-content/uploads/2025/12/Chalwa-07.webp
END:VEVENT
BEGIN:VEVENT
DTSTART;TZID=America/New_York:20251227T160000
DTEND;TZID=America/New_York:20251227T190000
DTSTAMP:20260425T200944
CREATED:20251210T134941Z
LAST-MODIFIED:20251227T135628Z
UID:1478-1766851200-1766862000@jasonhazinski.com
SUMMARY:12/27/2025 - CHALWA Live at Pisgah Brewing Co. // 4-7pm
DESCRIPTION:Chalwa brings the fire to Pisgah Brewing Company in Black Mountain\, NC on Saturday\, December 27th\, 2025!
URL:https://jasonhazinski.com/event/12-27-2025-chalwa-live-at-pisgah-brewing-co-4-7pm/
LOCATION:Pisgah Brewing Company\, 2948 US-70\, Black Mountain\, NC\, 28711\, United States
CATEGORIES:Chalwa,Shows
ATTACH;FMTTYPE=image/webp:https://jasonhazinski.com/wp-content/uploads/2025/12/Chalwa-12.webp
END:VEVENT
BEGIN:VEVENT
DTSTART;TZID=America/New_York:20251221T150000
DTEND;TZID=America/New_York:20251221T180000
DTSTAMP:20260425T200944
CREATED:20251212T074503Z
LAST-MODIFIED:20251227T135323Z
UID:1314-1766329200-1766340000@jasonhazinski.com
SUMMARY:12/21/2025 - Chalwa // Reggae Sunday at French Broad River Brewery // 3-6pm
DESCRIPTION:Chalwa Reggae Sunday at French Broad River Brewery happens every week from 3pm-6pm! It’s the perfect way to round out each weekend. You’ll find yourself drifting away to the sounds of reggae music surrounded by good people and great beer. Reggae Sunday is fun for the whole family! \nThis 8-member Mountain Reggae powerhouse packs it full of roots meditations and high grade jams that awaken your spirit and soul! Chalwa’s high energy shows are one of a kind\, featuring smooth vocals\, percussion\, bass\, lead guitar\, keys and saxophone. Their extensive collection of original music is interlaced with music from some of the Greats including\, Bob Marley\, Peter Tosh\, Burning Spear\, Bunny Wailer and even Jerry Garcia and the Grateful Dead.
URL:https://jasonhazinski.com/event/12-21-2025-chalwa-reggae-sunday-at-french-broad-river-brewery-3-6pm/
LOCATION:French Broad River Brewery\, 101 Fairview Rd\, Asheville\, NC\, 28803\, United States
CATEGORIES:Chalwa,Shows
ATTACH;FMTTYPE=image/jpeg:https://jasonhazinski.com/wp-content/uploads/2025/12/Chalwa-07.jpg
END:VEVENT
BEGIN:VEVENT
DTSTART;TZID=America/New_York:20251217T200000
DTEND;TZID=America/New_York:20251217T210000
DTSTAMP:20260425T200944
CREATED:20251210T133136Z
LAST-MODIFIED:20251219T010234Z
UID:1324-1766001600-1766005200@jasonhazinski.com
SUMMARY:12/17/2025 - Solo Set // Live from the Home Studio on Stageit // 8pm EST
DESCRIPTION:TUNE IN\nI’ll be bringing my best in looping\, keys and saxophone\, all live from the home studio on Stageit! It’s easy to create and account and start streaming. Tickets are on a pay-what-you-can scale and start at just $2.50. The show starts at 8pm EASTERN TIME (show times are listed in pacific\, unless you’re logged in). \nMy streams feature multi-camera production with full studio audio\, visuals\, live chat with the Saxfans or “Axepack” as coined by John // Wittyfan\, tipping and top supporter prizes\, and really just an all-around good time! Let’s make some music together!
URL:https://jasonhazinski.com/event/12-17-2025-solo-set-live-from-the-home-studio-on-stageit-8pm-est/
LOCATION:Stageit
CATEGORIES:Past Shows,Shows,Solo
ATTACH;FMTTYPE=image/webp:https://jasonhazinski.com/wp-content/uploads/2025/12/Jason-Hazinski_Newrootz-Studio-02.webp
END:VEVENT
END:VCALENDAR