BEGIN:VCALENDAR
VERSION:2.0
PRODID:-//Jason Hazinski - ECPv6.15.20//NONSGML v1.0//EN
CALSCALE:GREGORIAN
METHOD:PUBLISH
X-WR-CALNAME:Jason Hazinski
X-ORIGINAL-URL:https://jasonhazinski.com
X-WR-CALDESC:Events for Jason Hazinski
REFRESH-INTERVAL;VALUE=DURATION:PT1H
X-Robots-Tag:noindex
X-PUBLISHED-TTL:PT1H
BEGIN:VTIMEZONE
TZID:America/New_York
BEGIN:DAYLIGHT
TZOFFSETFROM:-0500
TZOFFSETTO:-0400
TZNAME:EDT
DTSTART:20250309T070000
END:DAYLIGHT
BEGIN:STANDARD
TZOFFSETFROM:-0400
TZOFFSETTO:-0500
TZNAME:EST
DTSTART:20251102T060000
END:STANDARD
BEGIN:DAYLIGHT
TZOFFSETFROM:-0500
TZOFFSETTO:-0400
TZNAME:EDT
DTSTART:20260308T070000
END:DAYLIGHT
BEGIN:STANDARD
TZOFFSETFROM:-0400
TZOFFSETTO:-0500
TZNAME:EST
DTSTART:20261101T060000
END:STANDARD
BEGIN:DAYLIGHT
TZOFFSETFROM:-0500
TZOFFSETTO:-0400
TZNAME:EDT
DTSTART:20270314T070000
END:DAYLIGHT
BEGIN:STANDARD
TZOFFSETFROM:-0400
TZOFFSETTO:-0500
TZNAME:EST
DTSTART:20271107T060000
END:STANDARD
END:VTIMEZONE
BEGIN:VEVENT
DTSTART;TZID=America/New_York:20260312T160000
DTEND;TZID=America/New_York:20260315T235900
DTSTAMP:20260425T182915
CREATED:20251213T215004Z
LAST-MODIFIED:20260107T012930Z
UID:160-1773331200-1773619140@jasonhazinski.com
SUMMARY:3/12/2026 - 3/15/2026 - TreeHouse! // ST. PETERSBURG\, FLORIDA // Reggae Rise Up Florida
DESCRIPTION:TreeHouse! takes the stage on Saturday\, March 14\, 2025 at Reggae Rise Up in St. Petersburg\, Florida \nGet Tickets
URL:https://jasonhazinski.com/event/3-12-2026-3-15-2026-treehouse-st-petersburg-florida-reggae-rise-up-florida/
LOCATION:Vinoy Park\, 701 Bayshore Dr NE\, St. Petersburg\, FL\, 33701\, United States
CATEGORIES:Shows,TreeHouse!
ATTACH;FMTTYPE=image/webp:https://jasonhazinski.com/wp-content/uploads/2025/12/IMG_5647-1.webp
END:VEVENT
END:VCALENDAR