BEGIN:VCALENDAR
VERSION:2.0
PRODID:-//Jason Hazinski - ECPv6.15.20//NONSGML v1.0//EN
CALSCALE:GREGORIAN
METHOD:PUBLISH
X-ORIGINAL-URL:https://jasonhazinski.com
X-WR-CALDESC:Events for Jason Hazinski
REFRESH-INTERVAL;VALUE=DURATION:PT1H
X-Robots-Tag:noindex
X-PUBLISHED-TTL:PT1H
BEGIN:VTIMEZONE
TZID:America/New_York
BEGIN:DAYLIGHT
TZOFFSETFROM:-0500
TZOFFSETTO:-0400
TZNAME:EDT
DTSTART:20250309T070000
END:DAYLIGHT
BEGIN:STANDARD
TZOFFSETFROM:-0400
TZOFFSETTO:-0500
TZNAME:EST
DTSTART:20251102T060000
END:STANDARD
BEGIN:DAYLIGHT
TZOFFSETFROM:-0500
TZOFFSETTO:-0400
TZNAME:EDT
DTSTART:20260308T070000
END:DAYLIGHT
BEGIN:STANDARD
TZOFFSETFROM:-0400
TZOFFSETTO:-0500
TZNAME:EST
DTSTART:20261101T060000
END:STANDARD
BEGIN:DAYLIGHT
TZOFFSETFROM:-0500
TZOFFSETTO:-0400
TZNAME:EDT
DTSTART:20270314T070000
END:DAYLIGHT
BEGIN:STANDARD
TZOFFSETFROM:-0400
TZOFFSETTO:-0500
TZNAME:EST
DTSTART:20271107T060000
END:STANDARD
END:VTIMEZONE
BEGIN:VEVENT
DTSTART;TZID=America/New_York:20260111T150000
DTEND;TZID=America/New_York:20260111T180000
DTSTAMP:20260425T194232
CREATED:20251213T012822Z
LAST-MODIFIED:20260107T012951Z
UID:1491-1768143600-1768154400@jasonhazinski.com
SUMMARY:1/11/26 - Reggae Sunday with Chalwa at French Broad River Brewry // 3-6pm
DESCRIPTION:
URL:https://jasonhazinski.com/event/1-11-26-reggae-sunday-with-chalwa-at-french-broad-river-brewry-3-6pm/
LOCATION:French Broad River Brewery\, 101 Fairview Rd\, Asheville\, NC\, 28803\, United States
CATEGORIES:Chalwa,Shows
ATTACH;FMTTYPE=image/webp:https://jasonhazinski.com/wp-content/uploads/2025/12/Chalwa-07.webp
END:VEVENT
END:VCALENDAR