BEGIN:VCALENDAR
VERSION:2.0
PRODID:-//Jason Hazinski - ECPv6.15.20//NONSGML v1.0//EN
CALSCALE:GREGORIAN
METHOD:PUBLISH
X-WR-CALNAME:Jason Hazinski
X-ORIGINAL-URL:https://jasonhazinski.com
X-WR-CALDESC:Events for Jason Hazinski
REFRESH-INTERVAL;VALUE=DURATION:PT1H
X-Robots-Tag:noindex
X-PUBLISHED-TTL:PT1H
BEGIN:VTIMEZONE
TZID:America/New_York
BEGIN:DAYLIGHT
TZOFFSETFROM:-0500
TZOFFSETTO:-0400
TZNAME:EDT
DTSTART:20250309T070000
END:DAYLIGHT
BEGIN:STANDARD
TZOFFSETFROM:-0400
TZOFFSETTO:-0500
TZNAME:EST
DTSTART:20251102T060000
END:STANDARD
BEGIN:DAYLIGHT
TZOFFSETFROM:-0500
TZOFFSETTO:-0400
TZNAME:EDT
DTSTART:20260308T070000
END:DAYLIGHT
BEGIN:STANDARD
TZOFFSETFROM:-0400
TZOFFSETTO:-0500
TZNAME:EST
DTSTART:20261101T060000
END:STANDARD
BEGIN:DAYLIGHT
TZOFFSETFROM:-0500
TZOFFSETTO:-0400
TZNAME:EDT
DTSTART:20270314T070000
END:DAYLIGHT
BEGIN:STANDARD
TZOFFSETFROM:-0400
TZOFFSETTO:-0500
TZNAME:EST
DTSTART:20271107T060000
END:STANDARD
END:VTIMEZONE
BEGIN:VEVENT
DTSTART;TZID=America/New_York:20260109T210000
DTEND;TZID=America/New_York:20260109T220000
DTSTAMP:20260425T182613
CREATED:20251212T012531Z
LAST-MODIFIED:20260107T013001Z
UID:1489-1767992400-1767996000@jasonhazinski.com
SUMMARY:1/9/26 - Livestream on Stageit // 9pm EST
DESCRIPTION:Live from the home studio to you! Bringing you a multi-camera experience\, full studio audio and original music. Tune in at 9pm EST!
URL:https://jasonhazinski.com/event/livestream-on-stageit/
LOCATION:Stageit
CATEGORIES:Shows,Solo
ATTACH;FMTTYPE=image/webp:https://jasonhazinski.com/wp-content/uploads/2025/12/9-5-25-Stageit-Image.webp
END:VEVENT
END:VCALENDAR